BEGIN:VCALENDAR
VERSION:2.0
PRODID:-//KTK - ECPv6.15.13//NONSGML v1.0//EN
CALSCALE:GREGORIAN
METHOD:PUBLISH
X-WR-CALNAME:KTK
X-ORIGINAL-URL:https://ktk.ca
X-WR-CALDESC:Events for KTK
REFRESH-INTERVAL;VALUE=DURATION:PT1H
X-Robots-Tag:noindex
X-PUBLISHED-TTL:PT1H
BEGIN:VTIMEZONE
TZID:America/New_York
BEGIN:DAYLIGHT
TZOFFSETFROM:-0500
TZOFFSETTO:-0400
TZNAME:EDT
DTSTART:20190310T070000
END:DAYLIGHT
BEGIN:STANDARD
TZOFFSETFROM:-0400
TZOFFSETTO:-0500
TZNAME:EST
DTSTART:20191103T060000
END:STANDARD
BEGIN:DAYLIGHT
TZOFFSETFROM:-0500
TZOFFSETTO:-0400
TZNAME:EDT
DTSTART:20200308T070000
END:DAYLIGHT
BEGIN:STANDARD
TZOFFSETFROM:-0400
TZOFFSETTO:-0500
TZNAME:EST
DTSTART:20201101T060000
END:STANDARD
BEGIN:DAYLIGHT
TZOFFSETFROM:-0500
TZOFFSETTO:-0400
TZNAME:EDT
DTSTART:20210314T070000
END:DAYLIGHT
BEGIN:STANDARD
TZOFFSETFROM:-0400
TZOFFSETTO:-0500
TZNAME:EST
DTSTART:20211107T060000
END:STANDARD
END:VTIMEZONE
BEGIN:VEVENT
DTSTART;TZID=America/New_York:20200428T080000
DTEND;TZID=America/New_York:20200503T170000
DTSTAMP:20260421T014609
CREATED:20190827T162124Z
LAST-MODIFIED:20190827T162124Z
UID:4963-1588060800-1588525200@ktk.ca
SUMMARY:WKF Canadian Junior Championships - Toronto
DESCRIPTION:
URL:https://ktk.ca/event/wkf-canadian-junior-championships-toronto/
LOCATION:Toronto
END:VEVENT
BEGIN:VEVENT
DTSTART;TZID=America/New_York:20200523T080000
DTEND;TZID=America/New_York:20200523T170000
DTSTAMP:20260421T014609
CREATED:20190827T162434Z
LAST-MODIFIED:20190827T162434Z
UID:4967-1590220800-1590253200@ktk.ca
SUMMARY:KTK Kata Cup (date to be confirmed)
DESCRIPTION:
URL:https://ktk.ca/event/ktk-kata-cup-date-to-be-confirmed/
LOCATION:Cégep de l’Outaouais\, 333 Boulevard de la Cité-des-Jeunes\, Gatineau\, Québec\, J8Y 6M4\, Canada
END:VEVENT
BEGIN:VEVENT
DTSTART;TZID=America/New_York:20200613T080000
DTEND;TZID=America/New_York:20200614T170000
DTSTAMP:20260421T014609
CREATED:20190827T162725Z
LAST-MODIFIED:20190827T162725Z
UID:4971-1592035200-1592154000@ktk.ca
SUMMARY:WKF Montreal Open
DESCRIPTION:
URL:https://ktk.ca/event/wkf-montreal-open/
LOCATION:Montreal
END:VEVENT
END:VCALENDAR